Package: OpenStats Version: 1.19.1 Command: /home/biocbuild/bbs-3.21-bioc/R/bin/R CMD check --install=check:OpenStats.install-out.txt --library=/home/biocbuild/bbs-3.21-bioc/R/site-library --timings OpenStats_1.19.1.tar.gz StartedAt: 2025-02-13 00:58:12 -0500 (Thu, 13 Feb 2025) EndedAt: 2025-02-13 00:59:59 -0500 (Thu, 13 Feb 2025) EllapsedTime: 107.2 seconds RetCode: 0 Status: OK CheckDir: OpenStats.Rcheck Warnings: 0