Package: OpenStats Version: 1.19.1 Command: /home/biocbuild/bbs-3.21-bioc/R/bin/R CMD INSTALL OpenStats StartedAt: 2025-02-12 15:10:24 -0500 (Wed, 12 Feb 2025) EndedAt: 2025-02-12 15:10:42 -0500 (Wed, 12 Feb 2025) EllapsedTime: 18.0 seconds RetCode: 0 Status: OK