Package: OpenStats Version: 1.19.1 Command: E:\biocbuild\bbs-3.21-bioc\R\bin\R.exe CMD check --no-multiarch --install=check:OpenStats.install-out.txt --library=E:\biocbuild\bbs-3.21-bioc\R\library --no-vignettes --timings OpenStats_1.19.1.tar.gz StartedAt: 2025-02-05 04:12:55 -0500 (Wed, 05 Feb 2025) EndedAt: 2025-02-05 04:15:05 -0500 (Wed, 05 Feb 2025) EllapsedTime: 130.3 seconds RetCode: 0 Status: OK CheckDir: OpenStats.Rcheck Warnings: 0