Package: OpenStats Version: 1.19.1 Command: E:\biocbuild\bbs-3.21-bioc\R\bin\R.exe CMD INSTALL OpenStats StartedAt: 2025-02-09 15:58:46 -0500 (Sun, 09 Feb 2025) EndedAt: 2025-02-09 15:59:31 -0500 (Sun, 09 Feb 2025) EllapsedTime: 44.9 seconds RetCode: 0 Status: OK