Package: OrderedList Version: 1.79.0 Maintainer: Claudio Lottaz MaintainerEmail: Claudio.Lottaz at klinik.uni-regensburg.de git_url: https://git.bioconductor.org/packages/OrderedList git_branch: devel git_last_commit: febc9a9 git_last_commit_date: 2024-10-29 09:26:19 -0500 (Tue, 29 Oct 2024)