Package: OrderedList Version: 1.79.0 Command: /Library/Frameworks/R.framework/Resources/bin/R CMD build --keep-empty-dirs --no-resave-data OrderedList StartedAt: 2025-02-09 17:10:17 -0500 (Sun, 09 Feb 2025) EndedAt: 2025-02-09 17:11:45 -0500 (Sun, 09 Feb 2025) EllapsedTime: 88.9 seconds RetCode: 0 Status: OK PackageFile: OrderedList_1.79.0.tar.gz PackageFileSize: 1.049 MiB