Package: OrderedList Version: 1.79.0 Command: /home/biocbuild/R/R/bin/R CMD INSTALL OrderedList StartedAt: 2025-01-29 19:32:56 -0000 (Wed, 29 Jan 2025) EndedAt: 2025-01-29 19:33:17 -0000 (Wed, 29 Jan 2025) EllapsedTime: 21.7 seconds RetCode: 0 Status: OK