Package: OrderedList Version: 1.79.0 Command: rm -rf OrderedList.buildbin-libdir && mkdir OrderedList.buildbin-libdir && /Users/biocbuild/BBS/utils/build-universal.sh OrderedList_1.79.0.tar.gz /Library/Frameworks/R.framework/Resources/bin/R OrderedList.buildbin-libdir StartedAt: 2025-02-10 01:07:06 -0500 (Mon, 10 Feb 2025) EndedAt: 2025-02-10 01:07:14 -0500 (Mon, 10 Feb 2025) EllapsedTime: 8.1 seconds RetCode: 0 Status: OK PackageFile: OrderedList_1.79.0.tgz PackageFileSize: 1.11 MiB