Package: OrderedList Version: 1.79.0 Command: /home/biocbuild/bbs-3.21-bioc/R/bin/R CMD build --keep-empty-dirs --no-resave-data OrderedList StartedAt: 2025-02-09 18:30:37 -0500 (Sun, 09 Feb 2025) EndedAt: 2025-02-09 18:32:17 -0500 (Sun, 09 Feb 2025) EllapsedTime: 100.1 seconds RetCode: 0 Status: OK PackageFile: OrderedList_1.79.0.tar.gz PackageFileSize: 1.053 MiB