Package: OrderedList Version: 1.79.0 Command: /home/biocbuild/bbs-3.21-bioc/R/bin/R CMD check --install=check:OrderedList.install-out.txt --library=/home/biocbuild/bbs-3.21-bioc/R/site-library --timings OrderedList_1.79.0.tar.gz StartedAt: 2025-02-10 00:59:07 -0500 (Mon, 10 Feb 2025) EndedAt: 2025-02-10 01:01:06 -0500 (Mon, 10 Feb 2025) EllapsedTime: 119.1 seconds RetCode: 0 Status: OK CheckDir: OrderedList.Rcheck Warnings: 0