Package: OrderedList Version: 1.79.0 Command: chmod a+r OrderedList -R && E:\biocbuild\bbs-3.21-bioc\R\bin\R.exe CMD build --keep-empty-dirs --no-resave-data OrderedList StartedAt: 2025-02-09 20:28:25 -0500 (Sun, 09 Feb 2025) EndedAt: 2025-02-09 20:30:23 -0500 (Sun, 09 Feb 2025) EllapsedTime: 117.8 seconds RetCode: 0 Status: OK PackageFile: OrderedList_1.79.0.tar.gz PackageFileSize: 817.5 KiB