Package: OrderedList Version: 1.79.0 Command: E:\biocbuild\bbs-3.21-bioc\R\bin\R.exe CMD check --no-multiarch --install=check:OrderedList.install-out.txt --library=E:\biocbuild\bbs-3.21-bioc\R\library --no-vignettes --timings OrderedList_1.79.0.tar.gz StartedAt: 2025-02-10 03:48:23 -0500 (Mon, 10 Feb 2025) EndedAt: 2025-02-10 03:49:08 -0500 (Mon, 10 Feb 2025) EllapsedTime: 45.7 seconds RetCode: 0 Status: OK CheckDir: OrderedList.Rcheck Warnings: 0