Package: OrganismDbi Version: 1.49.0 Command: rm -rf OrganismDbi.buildbin-libdir && mkdir OrganismDbi.buildbin-libdir && /Users/biocbuild/BBS/utils/build-universal.sh OrganismDbi_1.49.0.tar.gz /Library/Frameworks/R.framework/Resources/bin/R OrganismDbi.buildbin-libdir StartedAt: 2025-02-09 22:24:27 -0500 (Sun, 09 Feb 2025) EndedAt: 2025-02-09 22:24:45 -0500 (Sun, 09 Feb 2025) EllapsedTime: 17.4 seconds RetCode: 0 Status: OK PackageFile: OrganismDbi_1.49.0.tgz PackageFileSize: 776.3 KiB