Package: OrganismDbi Version: 1.49.0 Command: /home/biocbuild/R/R/bin/R CMD build --keep-empty-dirs --no-resave-data OrganismDbi StartedAt: 2025-01-29 01:04:00 -0000 (Wed, 29 Jan 2025) EndedAt: 2025-01-29 01:05:59 -0000 (Wed, 29 Jan 2025) EllapsedTime: 118.3 seconds RetCode: 0 Status: OK PackageFile: OrganismDbi_1.49.0.tar.gz PackageFileSize: 410 KiB