Package: OrganismDbi Version: 1.49.0 Command: rm -rf OrganismDbi.buildbin-libdir && mkdir OrganismDbi.buildbin-libdir && /Users/biocbuild/BBS/utils/build-universal.sh OrganismDbi_1.49.0.tar.gz /Library/Frameworks/R.framework/Resources/bin/R OrganismDbi.buildbin-libdir StartedAt: 2025-02-10 01:07:10 -0500 (Mon, 10 Feb 2025) EndedAt: 2025-02-10 01:08:07 -0500 (Mon, 10 Feb 2025) EllapsedTime: 57.7 seconds RetCode: 0 Status: OK PackageFile: OrganismDbi_1.49.0.tgz PackageFileSize: 775.8 KiB