Package: OrganismDbi Version: 1.49.0 Command: /Library/Frameworks/R.framework/Resources/bin/R CMD build --keep-empty-dirs --no-resave-data OrganismDbi StartedAt: 2025-02-09 17:49:43 -0500 (Sun, 09 Feb 2025) EndedAt: 2025-02-09 17:51:08 -0500 (Sun, 09 Feb 2025) EllapsedTime: 85.2 seconds RetCode: 0 Status: OK PackageFile: OrganismDbi_1.49.0.tar.gz PackageFileSize: 387.3 KiB