Package: OrganismDbi Version: 1.49.0 Command: /home/biocbuild/bbs-3.21-bioc/R/bin/R CMD build --keep-empty-dirs --no-resave-data OrganismDbi StartedAt: 2025-02-12 18:26:57 -0500 (Wed, 12 Feb 2025) EndedAt: 2025-02-12 18:28:19 -0500 (Wed, 12 Feb 2025) EllapsedTime: 82.1 seconds RetCode: 0 Status: OK PackageFile: OrganismDbi_1.49.0.tar.gz PackageFileSize: 387.3 KiB