Package: OrganismDbi Version: 1.49.0 Command: E:\biocbuild\bbs-3.21-bioc\R\bin\R.exe CMD check --no-multiarch --install=check:OrganismDbi.install-out.txt --library=E:\biocbuild\bbs-3.21-bioc\R\library --no-vignettes --timings OrganismDbi_1.49.0.tar.gz StartedAt: 2025-02-10 03:49:09 -0500 (Mon, 10 Feb 2025) EndedAt: 2025-02-10 04:01:36 -0500 (Mon, 10 Feb 2025) EllapsedTime: 746.9 seconds RetCode: 0 Status: OK CheckDir: OrganismDbi.Rcheck Warnings: 0