Package: PAA Version: 1.41.0 Command: rm -rf PAA.buildbin-libdir && mkdir PAA.buildbin-libdir && /Users/biocbuild/BBS/utils/build-universal.sh PAA_1.41.0.tar.gz /Library/Frameworks/R.framework/Resources/bin/R PAA.buildbin-libdir StartedAt: 2025-02-09 22:24:33 -0500 (Sun, 09 Feb 2025) EndedAt: 2025-02-09 22:24:49 -0500 (Sun, 09 Feb 2025) EllapsedTime: 15.4 seconds RetCode: 0 Status: OK PackageFile: PAA_1.41.0.tgz PackageFileSize: 3.99 MiB