Package: PAA Version: 1.41.0 Command: /home/biocbuild/bbs-3.21-bioc/R/bin/R CMD build --keep-empty-dirs --no-resave-data PAA StartedAt: 2025-02-09 18:32:21 -0500 (Sun, 09 Feb 2025) EndedAt: 2025-02-09 18:35:56 -0500 (Sun, 09 Feb 2025) EllapsedTime: 214.4 seconds RetCode: 0 Status: OK PackageFile: PAA_1.41.0.tar.gz PackageFileSize: 4.14 MiB