Package: PAA Version: 1.41.0 Command: /home/biocbuild/bbs-3.21-bioc/R/bin/R CMD check --install=check:PAA.install-out.txt --library=/home/biocbuild/bbs-3.21-bioc/R/site-library --timings PAA_1.41.0.tar.gz StartedAt: 2025-02-10 01:01:39 -0500 (Mon, 10 Feb 2025) EndedAt: 2025-02-10 01:09:03 -0500 (Mon, 10 Feb 2025) EllapsedTime: 443.8 seconds RetCode: 0 Status: OK CheckDir: PAA.Rcheck Warnings: 0