Package: PADOG Version: 1.49.4 Command: rm -rf PADOG.buildbin-libdir && mkdir PADOG.buildbin-libdir && /Users/biocbuild/BBS/utils/build-universal.sh PADOG_1.49.4.tar.gz /Library/Frameworks/R.framework/Resources/bin/R PADOG.buildbin-libdir StartedAt: 2025-02-09 22:24:37 -0500 (Sun, 09 Feb 2025) EndedAt: 2025-02-09 22:24:44 -0500 (Sun, 09 Feb 2025) EllapsedTime: 7.1 seconds RetCode: 0 Status: OK PackageFile: PADOG_1.49.4.tgz PackageFileSize: 400.4 KiB