Package: PADOG Version: 1.49.4 Command: /Library/Frameworks/R.framework/Resources/bin/R CMD build --keep-empty-dirs --no-resave-data PADOG StartedAt: 2025-02-09 17:11:53 -0500 (Sun, 09 Feb 2025) EndedAt: 2025-02-09 17:12:58 -0500 (Sun, 09 Feb 2025) EllapsedTime: 65.8 seconds RetCode: 0 Status: OK PackageFile: PADOG_1.49.4.tar.gz PackageFileSize: 369.5 KiB