Package: PADOG Version: 1.49.4 Command: /Library/Frameworks/R.framework/Resources/bin/R CMD check --install=check:PADOG.install-out.txt --library=/Library/Frameworks/R.framework/Resources/library --no-vignettes --timings PADOG_1.49.4.tar.gz StartedAt: 2025-02-09 20:33:34 -0500 (Sun, 09 Feb 2025) EndedAt: 2025-02-09 20:34:59 -0500 (Sun, 09 Feb 2025) EllapsedTime: 84.9 seconds RetCode: 0 Status: OK CheckDir: PADOG.Rcheck Warnings: 0