Package: PADOG Version: 1.49.4 Command: /home/biocbuild/R/R/bin/R CMD check --install=check:PADOG.install-out.txt --library=/home/biocbuild/R/R/site-library --no-vignettes --timings PADOG_1.49.4.tar.gz StartedAt: 2025-01-28 13:38:35 -0000 (Tue, 28 Jan 2025) EndedAt: 2025-01-28 13:45:38 -0000 (Tue, 28 Jan 2025) EllapsedTime: 422.6 seconds RetCode: 0 Status: OK CheckDir: PADOG.Rcheck Warnings: 0