Package: PADOG Version: 1.49.4 Command: /home/biocbuild/R/R/bin/R CMD INSTALL PADOG StartedAt: 2025-01-29 19:59:05 -0000 (Wed, 29 Jan 2025) EndedAt: 2025-01-29 19:59:23 -0000 (Wed, 29 Jan 2025) EllapsedTime: 18.5 seconds RetCode: 0 Status: OK