Package: PADOG Version: 1.49.4 Command: rm -rf PADOG.buildbin-libdir && mkdir PADOG.buildbin-libdir && /Users/biocbuild/BBS/utils/build-universal.sh PADOG_1.49.4.tar.gz /Library/Frameworks/R.framework/Resources/bin/R PADOG.buildbin-libdir StartedAt: 2025-02-10 01:07:22 -0500 (Mon, 10 Feb 2025) EndedAt: 2025-02-10 01:07:44 -0500 (Mon, 10 Feb 2025) EllapsedTime: 21.9 seconds RetCode: 0 Status: OK PackageFile: PADOG_1.49.4.tgz PackageFileSize: 399.9 KiB