Package: PADOG Version: 1.49.4 Command: /Library/Frameworks/R.framework/Resources/bin/R CMD INSTALL PADOG StartedAt: 2025-02-09 15:15:36 -0500 (Sun, 09 Feb 2025) EndedAt: 2025-02-09 15:15:57 -0500 (Sun, 09 Feb 2025) EllapsedTime: 20.8 seconds RetCode: 0 Status: OK