Package: PADOG Version: 1.49.4 Command: /home/biocbuild/bbs-3.21-bioc/R/bin/R CMD build --keep-empty-dirs --no-resave-data PADOG StartedAt: 2025-02-09 18:32:33 -0500 (Sun, 09 Feb 2025) EndedAt: 2025-02-09 18:36:18 -0500 (Sun, 09 Feb 2025) EllapsedTime: 224.4 seconds RetCode: 0 Status: OK PackageFile: PADOG_1.49.4.tar.gz PackageFileSize: 369.4 KiB