Package: PADOG Version: 1.49.4 Command: /home/biocbuild/bbs-3.21-bioc/R/bin/R CMD check --install=check:PADOG.install-out.txt --library=/home/biocbuild/bbs-3.21-bioc/R/site-library --timings PADOG_1.49.4.tar.gz StartedAt: 2025-02-10 01:02:28 -0500 (Mon, 10 Feb 2025) EndedAt: 2025-02-10 01:11:53 -0500 (Mon, 10 Feb 2025) EllapsedTime: 565.0 seconds RetCode: 0 Status: OK CheckDir: PADOG.Rcheck Warnings: 0