Package: PADOG Version: 1.49.4 Command: /home/biocbuild/bbs-3.21-bioc/R/bin/R CMD INSTALL PADOG StartedAt: 2025-02-09 15:28:37 -0500 (Sun, 09 Feb 2025) EndedAt: 2025-02-09 15:28:51 -0500 (Sun, 09 Feb 2025) EllapsedTime: 14.3 seconds RetCode: 0 Status: OK