Package: PADOG Version: 1.49.4 Command: rm -rf PADOG.buildbin-libdir && mkdir PADOG.buildbin-libdir && E:\biocbuild\bbs-3.21-bioc\R\bin\R.exe CMD INSTALL --build --library=PADOG.buildbin-libdir PADOG_1.49.4.tar.gz StartedAt: 2025-02-10 08:20:41 -0500 (Mon, 10 Feb 2025) EndedAt: 2025-02-10 08:21:01 -0500 (Mon, 10 Feb 2025) EllapsedTime: 19.4 seconds RetCode: 0 Status: OK PackageFile: PADOG_1.49.4.zip PackageFileSize: 272.3 KiB