Package: PADOG Version: 1.49.4 Command: chmod a+r PADOG -R && E:\biocbuild\bbs-3.21-bioc\R\bin\R.exe CMD build --keep-empty-dirs --no-resave-data PADOG StartedAt: 2025-02-09 20:33:19 -0500 (Sun, 09 Feb 2025) EndedAt: 2025-02-09 20:36:05 -0500 (Sun, 09 Feb 2025) EllapsedTime: 165.4 seconds RetCode: 0 Status: OK PackageFile: PADOG_1.49.4.tar.gz PackageFileSize: 237.8 KiB