Package: PAIRADISE Version: 1.23.0 Command: rm -rf PAIRADISE.buildbin-libdir && mkdir PAIRADISE.buildbin-libdir && /Users/biocbuild/BBS/utils/build-universal.sh PAIRADISE_1.23.0.tar.gz /Library/Frameworks/R.framework/Resources/bin/R PAIRADISE.buildbin-libdir StartedAt: 2025-02-10 01:07:24 -0500 (Mon, 10 Feb 2025) EndedAt: 2025-02-10 01:07:55 -0500 (Mon, 10 Feb 2025) EllapsedTime: 31.2 seconds RetCode: 0 Status: OK PackageFile: PAIRADISE_1.23.0.tgz PackageFileSize: 382.7 KiB