Package: PAIRADISE Version: 1.23.0 Command: /Library/Frameworks/R.framework/Resources/bin/R CMD build --keep-empty-dirs --no-resave-data PAIRADISE StartedAt: 2025-02-09 17:51:18 -0500 (Sun, 09 Feb 2025) EndedAt: 2025-02-09 17:52:48 -0500 (Sun, 09 Feb 2025) EllapsedTime: 90.1 seconds RetCode: 0 Status: OK PackageFile: PAIRADISE_1.23.0.tar.gz PackageFileSize: 320.6 KiB