Package: PAIRADISE Version: 1.23.0 Command: /Library/Frameworks/R.framework/Resources/bin/R CMD INSTALL PAIRADISE StartedAt: 2025-02-09 15:13:42 -0500 (Sun, 09 Feb 2025) EndedAt: 2025-02-09 15:14:10 -0500 (Sun, 09 Feb 2025) EllapsedTime: 27.6 seconds RetCode: 0 Status: OK