Package: PAIRADISE Version: 1.23.0 Command: /home/biocbuild/bbs-3.21-bioc/R/bin/R CMD check --install=check:PAIRADISE.install-out.txt --library=/home/biocbuild/bbs-3.21-bioc/R/site-library --timings PAIRADISE_1.23.0.tar.gz StartedAt: 2025-02-10 01:02:49 -0500 (Mon, 10 Feb 2025) EndedAt: 2025-02-10 01:09:21 -0500 (Mon, 10 Feb 2025) EllapsedTime: 391.7 seconds RetCode: 0 Status: OK CheckDir: PAIRADISE.Rcheck Warnings: 0