Package: PCAtools Version: 2.19.0 Command: rm -rf PCAtools.buildbin-libdir && mkdir PCAtools.buildbin-libdir && /Users/biocbuild/BBS/utils/build-universal.sh PCAtools_2.19.0.tar.gz /Library/Frameworks/R.framework/Resources/bin/R PCAtools.buildbin-libdir StartedAt: 2025-02-12 22:30:00 -0500 (Wed, 12 Feb 2025) EndedAt: 2025-02-12 22:30:14 -0500 (Wed, 12 Feb 2025) EllapsedTime: 14.3 seconds RetCode: 0 Status: OK PackageFile: PCAtools_2.19.0.tgz PackageFileSize: 5.952 MiB