Package: PCAtools Version: 2.19.0 Command: /Library/Frameworks/R.framework/Resources/bin/R CMD INSTALL PCAtools StartedAt: 2025-02-09 15:24:40 -0500 (Sun, 09 Feb 2025) EndedAt: 2025-02-09 15:24:52 -0500 (Sun, 09 Feb 2025) EllapsedTime: 11.8 seconds RetCode: 0 Status: OK