Package: PCAtools Version: 2.19.0 Command: /home/biocbuild/R/R/bin/R CMD build --keep-empty-dirs --no-resave-data PCAtools StartedAt: 2025-01-29 01:12:47 -0000 (Wed, 29 Jan 2025) EndedAt: 2025-01-29 01:16:44 -0000 (Wed, 29 Jan 2025) EllapsedTime: 237.2 seconds RetCode: 1 Status: ERROR PackageFile: None PackageFileSize: NA