Package: PCAtools Version: 2.19.0 Command: /home/biocbuild/R/R/bin/R CMD INSTALL PCAtools StartedAt: 2025-01-29 20:27:22 -0000 (Wed, 29 Jan 2025) EndedAt: 2025-01-29 20:28:12 -0000 (Wed, 29 Jan 2025) EllapsedTime: 50.2 seconds RetCode: 0 Status: OK