Package: PCAtools Version: 2.19.0 Command: /home/biocbuild/bbs-3.21-bioc/R/bin/R CMD build --keep-empty-dirs --no-resave-data PCAtools StartedAt: 2025-02-12 18:32:58 -0500 (Wed, 12 Feb 2025) EndedAt: 2025-02-12 18:36:09 -0500 (Wed, 12 Feb 2025) EllapsedTime: 191.3 seconds RetCode: 0 Status: OK PackageFile: PCAtools_2.19.0.tar.gz PackageFileSize: 10.99 MiB