Package: PCAtools Version: 2.19.0 Command: /home/biocbuild/bbs-3.21-bioc/R/bin/R CMD check --install=check:PCAtools.install-out.txt --library=/home/biocbuild/bbs-3.21-bioc/R/site-library --timings PCAtools_2.19.0.tar.gz StartedAt: 2025-02-13 01:12:52 -0500 (Thu, 13 Feb 2025) EndedAt: 2025-02-13 01:19:14 -0500 (Thu, 13 Feb 2025) EllapsedTime: 382.6 seconds RetCode: 0 Status: OK CheckDir: PCAtools.Rcheck Warnings: 0