Package: PCAtools Version: 2.19.0 Command: /home/biocbuild/bbs-3.21-bioc/R/bin/R CMD INSTALL PCAtools StartedAt: 2025-02-12 15:52:25 -0500 (Wed, 12 Feb 2025) EndedAt: 2025-02-12 15:52:59 -0500 (Wed, 12 Feb 2025) EllapsedTime: 34.7 seconds RetCode: 0 Status: OK