Package: PCAtools Version: 2.19.0 Command: chmod a+r PCAtools -R && E:\biocbuild\bbs-3.21-bioc\R\bin\R.exe CMD build --keep-empty-dirs --no-resave-data PCAtools StartedAt: 2025-02-09 20:38:46 -0500 (Sun, 09 Feb 2025) EndedAt: 2025-02-09 20:43:15 -0500 (Sun, 09 Feb 2025) EllapsedTime: 268.9 seconds RetCode: 1 Status: ERROR PackageFile: None PackageFileSize: NA