Package: PCAtools Version: 2.19.0 Command: E:\biocbuild\bbs-3.21-bioc\R\bin\R.exe CMD INSTALL PCAtools StartedAt: 2025-02-12 16:47:54 -0500 (Wed, 12 Feb 2025) EndedAt: 2025-02-12 16:49:41 -0500 (Wed, 12 Feb 2025) EllapsedTime: 107.2 seconds RetCode: 0 Status: OK