Package: PDATK Version: 1.15.0 Command: /Library/Frameworks/R.framework/Resources/bin/R CMD build --keep-empty-dirs --no-resave-data PDATK StartedAt: 2025-02-12 17:13:38 -0500 (Wed, 12 Feb 2025) EndedAt: 2025-02-12 17:14:23 -0500 (Wed, 12 Feb 2025) EllapsedTime: 45.5 seconds RetCode: 0 Status: OK PackageFile: PDATK_1.15.0.tar.gz PackageFileSize: 3.005 MiB