Package: PDATK Version: 1.15.0 Command: /Library/Frameworks/R.framework/Resources/bin/R CMD check --install=check:PDATK.install-out.txt --library=/Library/Frameworks/R.framework/Resources/library --no-vignettes --timings PDATK_1.15.0.tar.gz StartedAt: 2025-02-09 20:36:22 -0500 (Sun, 09 Feb 2025) EndedAt: 2025-02-09 20:38:27 -0500 (Sun, 09 Feb 2025) EllapsedTime: 124.5 seconds RetCode: 0 Status: WARNINGS CheckDir: PDATK.Rcheck Warnings: 2