Package: PDATK Version: 1.15.0 Command: /home/biocbuild/R/R/bin/R CMD build --keep-empty-dirs --no-resave-data PDATK StartedAt: 2025-01-29 01:13:00 -0000 (Wed, 29 Jan 2025) EndedAt: 2025-01-29 01:15:35 -0000 (Wed, 29 Jan 2025) EllapsedTime: 155.1 seconds RetCode: 0 Status: OK PackageFile: PDATK_1.15.0.tar.gz PackageFileSize: 1.925 MiB