Package: PDATK Version: 1.15.0 Command: /home/biocbuild/R/R/bin/R CMD check --install=check:PDATK.install-out.txt --library=/home/biocbuild/R/R/site-library --no-vignettes --timings PDATK_1.15.0.tar.gz StartedAt: 2025-01-28 13:46:37 -0000 (Tue, 28 Jan 2025) EndedAt: 2025-01-28 13:53:33 -0000 (Tue, 28 Jan 2025) EllapsedTime: 416.5 seconds RetCode: 0 Status: WARNINGS CheckDir: PDATK.Rcheck Warnings: 2